Workbook
Name __123Graph_XGRAPH3: [1]GDP!#REF!
Name aa: ('[2]1993'!$A$1:$IV$3,'[2]1993'!$A$1:$A$65536)
Name ad: '[3]МТР Газ України'!$B$1
Name as: '[4]МТР Газ України'!$B$1
Name asdf: [5]Inform!$E$6
Name asdfg: [5]Inform!$F$2
Name BuiltIn_Print_Area___1___1: #REF!
Name ClDate: [6]Inform!$E$6
Name ClDate_21: [7]Inform!$E$6
Name ClDate_25: [7]Inform!$E$6
Name ClDate_6: [8]Inform!$E$6
Name CompName: [6]Inform!$F$2
Name CompName_21: [7]Inform!$F$2
Name CompName_25: [7]Inform!$F$2
Name CompName_6: [8]Inform!$F$2
Name CompNameE: [6]Inform!$G$2
Name CompNameE_21: [7]Inform!$G$2
Name CompNameE_25: [7]Inform!$G$2
Name CompNameE_6: [8]Inform!$G$2
Name Cost_Category_National_ID: #REF!
Name Cе511: #REF!
Name d: '[9]МТР Газ України'!$B$4
Name dCPIb: [10]п!#REF!
Name dPPIb: [10]п!#REF!
Name ds: '[11]7 Інші витрати'!#REF!
Name Excel_BuiltIn_Database: '[12]Ener '!$A$1:$G$2645
Name Fact_Type_ID: #REF!
Name G: '[13]МТР Газ України'!$B$1
Name ij1sssss: '[14]7 Інші витрати'!#REF!
Name LastItem: [15]Лист1!$A$1
Name Load: '[16]МТР Газ України'!$B$4
Name Load_ID: '[17]МТР Газ України'!$B$4
Name Load_ID_10: '[18]7 Інші витрати'!#REF!
Name Load_ID_11: '[19]МТР Газ України'!$B$4
Name Load_ID_12: '[19]МТР Газ України'!$B$4
Name Load_ID_13: '[19]МТР Газ України'!$B$4
Name Load_ID_14: '[19]МТР Газ України'!$B$4
Name Load_ID_15: '[19]МТР Газ України'!$B$4
Name Load_ID_16: '[19]МТР Газ України'!$B$4
Name Load_ID_17: '[19]МТР Газ України'!$B$4
Name Load_ID_18: '[20]МТР Газ України'!$B$4
Name Load_ID_19: '[21]МТР Газ України'!$B$4
Name Load_ID_20: '[20]МТР Газ України'!$B$4
Name Load_ID_200: '[16]МТР Газ України'!$B$4
Name Load_ID_21: '[22]МТР Газ України'!$B$4
Name Load_ID_23: '[21]МТР Газ України'!$B$4
Name Load_ID_25: '[22]МТР Газ України'!$B$4
Name Load_ID_542: '[23]МТР Газ України'!$B$4
Name Load_ID_6: '[19]МТР Газ України'!$B$4
Name OpDate: [6]Inform!$E$5
Name OpDate_21: [7]Inform!$E$5
Name OpDate_25: [7]Inform!$E$5
Name OpDate_6: [8]Inform!$E$5
Name QR: [24]Inform!$E$5
Name qw: [5]Inform!$E$5
Name qwert: [5]Inform!$G$2
Name qwerty: '[4]МТР Газ України'!$B$4
Name ShowFil: ShowFil
Name SU_ID: #REF!
Name Time_ID: '[17]МТР Газ України'!$B$1

Sheet Осн. фін. пок.
F1: Додаток 2 до Порядку складання, затвердження та контролю виконання фінансового плану комунальних підприємств Ужгородської міської ради
F3: 2025 | G3: Рік | H3: Коди
A4: Підприємство | B4: КП "УККП" УМР | F4: 5448567 | G4: за ЄДРПОУ
A5: Організаційно-правова форма | B5: комунальне підприємство міста | F5: 32 | G5: за КОПФГ
A6: Територія | B6: ДМІ УМР | F6: 2110100000 | G6: за КОАТУУ
A7: Орган державного управління | B7: Житлово комунальне господарство | F7: 1009 | G7: за СПОДУ
A8: Галузь | B8: надання ритуальних послуг | G8: за ЗКГНГ
A9: Вид економічної діяльності | F9: 96.03 | G9: за КВЕД
A10: Одиниця виміру, тис. грн | F10: Стандарти звітності П(с)БОУ
A11: Форма власності | B11: комунальна | F11: Стандарти звітності МСФЗ
A12: Середньооблікова кількість штатних працівників | B12: 36
A13: Місцезнаходження | B13: м. Ужгород вул.Героїв,2
A14: Телефон
A15: Прізвище та ініціали керівника | B15: Сухолов А.Р.
A17: ЗВІТ
A18: ПРО ВИКОНАННЯ ФІНАНСОВОГО ПЛАНУ ПІДПРИЄМСТВА
A19: за 2025 рік
A20: (рік)
A22: Основні фінансові показники
A24: Найменування показника | B24: Код рядка | C24: Факт наростаючим підсумком з початку року | E24: Звітний період (рік)
C25: минулий рік | D25: поточний рік | E25: план | F25: факт | G25: відхилення, +/– | H25: виконання, %
A26: 1 | B26: 2 | C26: 3 | D26: 4 | E26: 5 | F26: 6 | G26: 7 | H26: 8
A27: І. Формування фінансових результатів
A28: Чистий дохід від реалізації продукції (товарів, робіт, послуг) | B28: 1000 | C28: 4387 | D28: 4685 | E28: 4100 | F28: 4685 | G28: =F28-E28 -> 585 | H28: =(F28/E28)*100 -> 114.26829
A29: Собівартість реалізованої продукції (товарів, робіт, послуг) | B29: 1010 | C29: -4185 | D29: -4479 | E29: -3545 | F29: -4478.7 | G29: =F29-E29 -> -933.7 | H29: =(F29/E29)*100 -> 126.3385
A30: Валовий прибуток/збиток | B30: 1020 | C30: 202 | D30: 207 | E30: 555 | F30: 207 | G30: =F30-E30 -> -348 | H30: =(F30/E30)*100 -> 37.297297
A31: Адміністративні витрати, у тому числі: | B31: 1030 | C31: ='I. Фін результат'!C18 -> 0 | D31: ='I. Фін результат'!D18 -> 0 | E31: ='I. Фін результат'!E18 -> 0 | F31: ='I. Фін результат'!F18 -> 0 | G31: =F31-E31 -> 0 | H31: =(F31/E31)*100 -> #DIV/0!
A32: витрати, пов'язані з використанням власних службових автомобілів | B32: 1031 | C32: ='I. Фін результат'!C19 -> ( ) | D32: ='I. Фін результат'!D19 -> ( ) | E32: ='I. Фін результат'!E19 -> ( ) | F32: ='I. Фін результат'!F19 -> ( ) | G32: =F32-E32 -> #VALUE! | H32: =(F32/E32)*100 -> #VALUE!
A33: витрати на оренду службових автомобілів | B33: 1032 | C33: ='I. Фін результат'!C20 -> ( ) | D33: ='I. Фін результат'!D20 -> ( ) | E33: ='I. Фін результат'!E20 -> ( ) | F33: ='I. Фін результат'!F20 -> ( ) | G33: =F33-E33 -> #VALUE! | H33: =(F33/E33)*100 -> #VALUE!
A34: витрати на консалтингові послуги | B34: 1033 | C34: ='I. Фін результат'!C21 -> ( ) | D34: ='I. Фін результат'!D21 -> ( ) | E34: ='I. Фін результат'!E21 -> ( ) | F34: ='I. Фін результат'!F21 -> ( ) | G34: =F34-E34 -> #VALUE! | H34: =(F34/E34)*100 -> #VALUE!
A35: витрати на страхові послуги | B35: 1034 | C35: ='I. Фін результат'!C22 -> ( ) | D35: ='I. Фін результат'!D22 -> ( ) | E35: ='I. Фін результат'!E22 -> ( ) | F35: ='I. Фін результат'!F22 -> ( ) | G35: =F35-E35 -> #VALUE! | H35: =(F35/E35)*100 -> #VALUE!
A36: витрати на аудиторські послуги | B36: 1035 | C36: ='I. Фін результат'!C23 -> ( ) | D36: ='I. Фін результат'!D23 -> ( ) | E36: ='I. Фін результат'!E23 -> ( ) | F36: ='I. Фін результат'!F23 -> ( ) | G36: =F36-E36 -> #VALUE! | H36: =(F36/E36)*100 -> #VALUE!
A37: Витрати на збут | B37: 1060 | C37: ='I. Фін результат'!C41 -> 0 | D37: ='I. Фін результат'!D41 -> 0 | E37: ='I. Фін результат'!E41 -> 0 | F37: ='I. Фін результат'!F41 -> 0 | G37: =F37-E37 -> 0 | H37: =(F37/E37)*100 -> #DIV/0!
A38: Інші операційні доходи, у тому числі: | B38: 1070 | C38: 68 | D38: 31 | E38: 156 | F38: 31 | G38: =F38-E38 -> -125 | H38: =(F38/E38)*100 -> 19.871795
A39: курсові різниці | B39: 1071 | C39: ='I. Фін результат'!C50 -> 0 | D39: ='I. Фін результат'!D50 -> 0 | E39: ='I. Фін результат'!E50 -> 0 | F39: ='I. Фін результат'!F50 -> 0 | G39: =F39-E39 -> 0 | H39: =(F39/E39)*100 -> #DIV/0!
A40: нетипові операційні доходи | B40: 1072 | C40: ='I. Фін результат'!C51 -> 0 | D40: ='I. Фін результат'!D51 -> 0 | E40: ='I. Фін результат'!E51 -> 0 | F40: ='I. Фін результат'!F51 -> 0 | G40: =F40-E40 -> 0 | H40: =(F40/E40)*100 -> #DIV/0!
A41: Інші операційні витрати, у тому числі: | B41: 1080 | C41: -143 | D41: -1867 | E41: -156 | F41: -1862.2 | G41: =F41-E41 -> -1706.2 | H41: =(F41/E41)*100 -> 1193.7179
A42: курсові різниці | B42: 1081 | C42: ='I. Фін результат'!C54 -> ( ) | D42: ='I. Фін результат'!D54 -> ( ) | E42: ='I. Фін результат'!E54 -> ( ) | F42: ='I. Фін результат'!F54 -> ( ) | G42: =F42-E42 -> #VALUE! | H42: =(F42/E42)*100 -> #VALUE!
A43: нетипові операційні витрати | B43: 1082 | C43: ='I. Фін результат'!C55 -> ( ) | D43: ='I. Фін результат'!D55 -> ( ) | E43: ='I. Фін результат'!E55 -> ( ) | F43: ='I. Фін результат'!F55 -> ( ) | G43: =F43-E43 -> #VALUE! | H43: =(F43/E43)*100 -> #VALUE!
A44: Фінансовий результат від операційної діяльності | B44: 1100 | C44: -127 | D44: -107 | E44: -555 | F44: -107.3 | G44: =F44-E44 -> 447.7 | H44: =(F44/E44)*100 -> 19.333333
...

Sheet I. Фін результат
A1: І. Формування фінансових результатів
A3: Найменування показника | B3: Код рядка | C3: Факт наростаючим підсумком з початку року | E3: Звітний період (рік)
C4: минулий рік | D4: поточний рік | E4: план | F4: факт | G4: відхилення, +/– | H4: виконання, % | I4: пояснення та обґрунтування відхилення від запланованого рівня доходів/витрат
A5: 1 | B5: 2 | C5: 3 | D5: 4 | E5: 5 | F5: 6 | G5: 7 | H5: 8 | I5: 9
A6: Доходи і витрати (деталізація)
A7: Чистий дохід від реалізації продукції (товарів, робіт, послуг) | B7: 1000 | C7: 4387 | D7: 4685 | E7: 4100 | F7: 4685 | G7: =F7-E7 -> 585 | H7: =(F7/E7)*100 -> 114.26829
A8: Собівартість реалізованої продукції (товарів, робіт, послуг) | B8: 1010 | C8: -4185 | D8: -4479 | E8: -3545 | F8: -4479 | G8: =F8-E8 -> -934 | H8: =(F8/E8)*100 -> 126.34697
A9: Витрати на сировину та основні матеріали | B9: 1011 | C9: -645 | D9: -710 | E9: -1720 | F9: -710 | G9: =F9-E9 -> 1010 | H9: =(F9/E9)*100 -> 41.27907
A10: витрати на паливо | B10: 1012 | C10: -364 | D10: -413 | E10: -90 | F10: -413 | G10: =F10-E10 -> -323 | H10: =(F10/E10)*100 -> 458.88889
A11: Витрати на електроенергію | B11: 1013 | C11: -81 | D11: -96 | E11: -35 | F11: -96 | G11: =F11-E11 -> -61 | H11: =(F11/E11)*100 -> 274.28571
A12: Витрати на оплату праці | B12: 1014 | C12: -2537 | D12: -2672 | E12: -1680 | F12: -2672 | G12: =F12-E12 -> -992 | H12: =(F12/E12)*100 -> 159.04762
A13: Відрахування на соціальні заходи | B13: 1015 | C13: -558 | D13: -588 | E13: -20 | F13: -588 | G13: =F13-E13 -> -568 | H13: =(F13/E13)*100 -> 2940
A14: Витрати, що здійснюються для підтримання об’єкта в робочому стані (проведення ремонту, технічного огляду, нагляду, обслуговування тощо) | B14: 1016 | C14: ( ) | D14: ( ) | E14: ( ) | F14: ( ) | G14: =F14-E14 -> #VALUE! | H14: =(F14/E14)*100 -> #VALUE!
A15: Амортизація основних засобів і нематеріальних активів | B15: 1017 | C15: ( ) | D15: ( ) | E15: ( ) | F15: ( ) | G15: =F15-E15 -> #VALUE! | H15: =(F15/E15)*100 -> #VALUE!
A16: Інші витрати (розшифрувати) | B16: 1018 | C16: ( ) | D16: ( ) | E16: ( ) | F16: ( ) | G16: =F16-E16 -> #VALUE! | H16: =(F16/E16)*100 -> #VALUE!
A17: Валовий прибуток (збиток) | B17: 1020 | C17: 202 | D17: 207 | E17: 555 | F17: 207 | G17: =F17-E17 -> -348 | H17: =(F17/E17)*100 -> 37.297297
A18: Адміністративні витрати, у тому числі: | B18: 1030 | C18: =SUM(C19:C38,C40) -> 0 | D18: =SUM(D19:D38,D40) -> 0 | E18: =SUM(E19:E38,E40) -> 0 | F18: =SUM(F19:F38,F40) -> 0 | G18: =F18-E18 -> 0 | H18: =(F18/E18)*100 -> #DIV/0!
A19: витрати, пов'язані з використанням власних службових автомобілів | B19: 1031 | C19: ( ) | D19: ( ) | E19: ( ) | F19: ( ) | G19: =F19-E19 -> #VALUE! | H19: =(F19/E19)*100 -> #VALUE!
A20: витрати на оренду службових автомобілів | B20: 1032 | C20: ( ) | D20: ( ) | E20: ( ) | F20: ( ) | G20: =F20-E20 -> #VALUE! | H20: =(F20/E20)*100 -> #VALUE!
A21: витрати на консалтингові послуги | B21: 1033 | C21: ( ) | D21: ( ) | E21: ( ) | F21: ( ) | G21: =F21-E21 -> #VALUE! | H21: =(F21/E21)*100 -> #VALUE!
A22: витрати на страхові послуги | B22: 1034 | C22: ( ) | D22: ( ) | E22: ( ) | F22: ( ) | G22: =F22-E22 -> #VALUE! | H22: =(F22/E22)*100 -> #VALUE!
A23: витрати на аудиторські послуги | B23: 1035 | C23: ( ) | D23: ( ) | E23: ( ) | F23: ( ) | G23: =F23-E23 -> #VALUE! | H23: =(F23/E23)*100 -> #VALUE!
A24: витрати на службові відрядження | B24: 1036 | C24: ( ) | D24: ( ) | E24: ( ) | F24: ( ) | G24: =F24-E24 -> #VALUE! | H24: =(F24/E24)*100 -> #VALUE!
A25: витрати на зв’язок | B25: 1037 | C25: ( ) | D25: ( ) | E25: ( ) | F25: ( ) | G25: =F25-E25 -> #VALUE! | H25: =(F25/E25)*100 -> #VALUE!
A26: витрати на оплату праці | B26: 1038 | C26: ( ) | D26: ( ) | E26: ( ) | F26: ( ) | G26: =F26-E26 -> #VALUE! | H26: =(F26/E26)*100 -> #VALUE!
A27: відрахування на соціальні заходи | B27: 1039 | C27: ( ) | D27: ( ) | E27: ( ) | F27: ( ) | G27: =F27-E27 -> #VALUE! | H27: =(F27/E27)*100 -> #VALUE!
A28: амортизація основних засобів і нематеріальних активів загальногосподарського призначення | B28: 1040 | C28: ( ) | D28: ( ) | E28: ( ) | F28: ( ) | G28: =F28-E28 -> #VALUE! | H28: =(F28/E28)*100 -> #VALUE!
A29: витрати на операційну оренду основних засобів та роялті, що мають загальногосподарське призначення | B29: 1041 | C29: ( ) | D29: ( ) | E29: ( ) | F29: ( ) | G29: =F29-E29 -> #VALUE! | H29: =(F29/E29)*100 -> #VALUE!
A30: витрати на страхування майна загальногосподарського призначення | B30: 1042 | C30: ( ) | D30: ( ) | E30: ( ) | F30: ( ) | G30: =F30-E30 -> #VALUE! | H30: =(F30/E30)*100 -> #VALUE!
... A38: витрати на утримання основних фондів, інших необоротних активів загальногосподарського використання, у тому числі: | B38: 1050 | C38: ( ) | D38: ( ) | E38: ( ) | F38: ( ) | G38: =F38-E38 -> #VALUE! | H38: =(F38/E38)*100 -> #VALUE!
A39: витрати на поліпшення основних фондів | B39: 1050/1 | C39: ( ) | D39: ( ) | E39: ( ) | F39: ( ) | G39: =F39-E39 -> #VALUE! | H39: =(F39/E39)*100 -> #VALUE!
A40: інші адміністративні витрати (розшифрувати) | B40: 1051 | C40: ( ) | D40: ( ) | E40: ( ) | F40: ( ) | G40: =F40-E40 -> #VALUE! | H40: =(F40/E40)*100 -> #VALUE!
A41: Витрати на збут, у тому числі: | B41: 1060 | C41: =SUM(C42:C48) -> 0 | D41: =SUM(D42:D48) -> 0 | E41: =SUM(E42:E48) -> 0 | F41: =SUM(F42:F48) -> 0 | G41: =F41-E41 -> 0 | H41: =(F41/E41)*100 -> #DIV/0!
A42: транспортні витрати | B42: 1061 | C42: ( ) | D42: ( ) | E42: ( ) | F42: ( ) | G42: =F42-E42 -> #VALUE! | H42: =(F42/E42)*100 -> #VALUE!
A43: витрати на зберігання та упаковку | B43: 1062 | C43: ( ) | D43: ( ) | E43: ( ) | F43: ( ) | G43: =F43-E43 -> #VALUE! | H43: =(F43/E43)*100 -> #VALUE!
A44: витрати на оплату праці | B44: 1063 | C44: ( ) | D44: ( ) | E44: ( ) | F44: ( ) | G44: =F44-E44 -> #VALUE! | H44: =(F44/E44)*100 -> #VALUE!
A45: відрахування на соціальні заходи | B45: 1064 | C45: ( ) | D45: ( ) | E45: ( ) | F45: ( ) | G45: =F45-E45 -> #VALUE! | H45: =(F45/E45)*100 -> #VALUE!
A46: амортизація основних засобів і нематеріальних активів | B46: 1065 | C46: ( ) | D46: ( ) | E46: ( ) | F46: ( ) | G46: =F46-E46 -> #VALUE! | H46: =(F46/E46)*100 -> #VALUE!
A47: витрати на рекламу | B47: 1066 | C47: ( ) | D47: ( ) | E47: ( ) | F47: ( ) | G47: =F47-E47 -> #VALUE! | H47: =(F47/E47)*100 -> #VALUE!
A48: інші витрати на збут (розшифрувати) | B48: 1067 | C48: ( ) | D48: ( ) | E48: ( ) | F48: ( ) | G48: =F48-E48 -> #VALUE! | H48: =(F48/E48)*100 -> #VALUE!
...

Sheet ІІ. Розр. з бюджетом
A1: IІ. Розрахунки з бюджетом
A3: Найменування показника | B3: Код рядка | C3: Факт наростаючим підсумком з початку року | E3: Звітний період (рік)
C4: минулий рік | D4: поточний рік | E4: план | F4: факт | G4: відхилення, +/– | H4: виконання, %
A5: 1 | B5: 2 | C5: 3 | D5: 4 | E5: 5 | F5: 6 | G5: 7 | H5: 8
A6: Розподіл чистого прибутку
A7: Залишок нерозподіленого прибутку (непокритого збитку) на початок звітного періоду | B7: 2000 | C7: 501 | D7: 608 | E7: 102 | F7: 608 | G7: =F7-E7 -> 506 | H7: =(F7/E7)*100 -> 596.07843
A8: Нараховані до сплати відрахування частини чистого прибутку, усього, у тому числі: | B8: 2010 | C8: =SUM(C9:C10) -> 0 | D8: =SUM(D9:D10) -> 0 | E8: =SUM(E9:E10) -> 0 | F8: =SUM(F9:F10) -> 0 | G8: =F8-E8 -> 0 | H8: =(F8/E8)*100 -> #DIV/0!
A9: державними унітарними підприємствами та їх об'єднаннями до державного бюджету | B9: 2011 | C9: ( ) | D9: ( ) | E9: ( ) | F9: ( ) | G9: =F9-E9 -> #VALUE! | H9: =(F9/E9)*100 -> #VALUE!
A10: господарськими товариствами, у статутному капіталі яких більше 50 відсотків акцій (часток, паїв) належать державі, на виплату дивідендів | B10: 2012 | C10: ( ) | D10: ( ) | E10: ( ) | F10: ( ) | G10: =F10-E10 -> #VALUE! | H10: =(F10/E10)*100 -> #VALUE!
A11: у тому числі на державну частку | B11: 2012/1 | C11: ( ) | D11: ( ) | E11: ( ) | F11: ( ) | G11: =F11-E11 -> #VALUE! | H11: =(F11/E11)*100 -> #VALUE!
A12: Перенесено з додаткового капіталу | B12: 2020 | G12: =F12-E12 -> 0 | H12: =(F12/E12)*100 -> #DIV/0!
A13: Розвиток виробництва | B13: 2030 | C13: ( ) | D13: ( ) | E13: ( ) | F13: ( ) | G13: =F13-E13 -> #VALUE! | H13: =(F13/E13)*100 -> #VALUE!
A14: у тому числі за основними видами діяльності за КВЕД | B14: 2031 | C14: ( ) | D14: ( ) | E14: ( ) | F14: ( ) | G14: =F14-E14 -> #VALUE! | H14: =(F14/E14)*100 -> #VALUE!
A15: Резервний фонд | B15: 2040 | C15: ( ) | D15: ( ) | E15: ( ) | F15: ( ) | G15: =F15-E15 -> #VALUE! | H15: =(F15/E15)*100 -> #VALUE!
A16: Інші фонди (розшифрувати) | B16: 2050 | C16: ( ) | D16: ( ) | E16: ( ) | F16: ( ) | G16: =F16-E16 -> #VALUE! | H16: =(F16/E16)*100 -> #VALUE!
A17: Інші цілі (розшифрувати) | B17: 2060 | C17: ( ) | D17: ( ) | E17: ( ) | F17: ( ) | G17: =F17-E17 -> #VALUE! | H17: =(F17/E17)*100 -> #VALUE!
A18: Залишок нерозподіленого прибутку (непокритого збитку) на кінець звітного періоду | B18: 2070 | C18: 605 | D18: 696 | E18: 265 | F18: 696 | G18: =F18-E18 -> 431 | H18: =(F18/E18)*100 -> 262.64151
A19: Сплата податків, зборів та інших обов'язкових платежів
A20: Сплата податків та зборів до Державного бюджету України (податкові платежі), усього, у тому числі: | B20: 2110 | C20: 23 | D20: 19 | E20: 15 | F20: 19 | G20: =F20-E20 -> 4 | H20: =(F20/E20)*100 -> 126.66667
A21: податок на прибуток підприємств | B21: 2111 | C21: 23 | D21: 19 | E21: 15 | F21: 19 | G21: =F21-E21 -> 4 | H21: =(F21/E21)*100 -> 126.66667
A22: ПДВ, що підлягає сплаті до бюджету за підсумками звітного періоду | B22: 2112 | G22: =F22-E22 -> 0 | H22: =(F22/E22)*100 -> #DIV/0!
A23: ПДВ, що підлягає відшкодуванню з бюджету за підсумками звітного періоду | B23: 2113 | C23: ( ) | D23: ( ) | E23: ( ) | F23: ( ) | G23: =F23-E23 -> #VALUE! | H23: =(F23/E23)*100 -> #VALUE!
A24: акцизний податок | B24: 2114 | G24: =F24-E24 -> 0 | H24: =(F24/E24)*100 -> #DIV/0!
A25: відрахування частини чистого прибутку державними унітарними підприємствами та їх об'єднаннями | B25: 2115 | G25: =F25-E25 -> 0 | H25: =(F25/E25)*100 -> #DIV/0!
A26: рентна плата за транспортування | B26: 2116 | G26: =F26-E26 -> 0 | H26: =(F26/E26)*100 -> #DIV/0!
A27: рентна плата за користування надрами | B27: 2117 | G27: =F27-E27 -> 0 | H27: =(F27/E27)*100 -> #DIV/0!
A28: податок на доходи фізичних осіб | B28: 2118 | G28: =F28-E28 -> 0 | H28: =(F28/E28)*100 -> #DIV/0!
A29: інші податки та збори (розшифрувати) | B29: 2119 | G29: =F29-E29 -> 0 | H29: =(F29/E29)*100 -> #DIV/0!
A30: Сплата податків та зборів до місцевих бюджетів (податкові платежі), усього, у тому числі: | B30: 2120 | C30: 16 | E30: 20 | G30: =F30-E30 -> -20 | H30: =(F30/E30)*100 -> 0
A31: податок на доходи фізичних осіб | B31: 2121 | H31: =(F31/E31)*100 -> #DIV/0!
A32: земельний податок | B32: 2122 | C32: 16 | E32: 20 | H32: =(F32/E32)*100 -> 0
A33: орендна плата | B33: 2123 | H33: =(F33/E33)*100 -> #DIV/0!
A34: інші податки та збори (розшифрувати) | B34: 2124 | G34: =F34-E34 -> 0 | H34: =(F34/E34)*100 -> #DIV/0!
A35: Інші податки, збори та платежі на користь держави, усього, у тому числі: | B35: 2130 | D35: =SUM(D36:D39) -> 0 | E35: =SUM(E36:E39) -> 0 | F35: =SUM(F36:F39) -> 0 | G35: =F35-E35 -> 0 | H35: =(F35/E35)*100 -> #DIV/0!
A36: відрахування частини чистого прибутку господарськими товариствами, у статутному капіталі яких більше 50 відсотків акцій (часток, паїв) належать державі, на виплату дивідендів на державну частку | B36: 2131 | G36: =F36-E36 -> 0 | H36: =(F36/E36)*100 -> #DIV/0!
A37: митні платежі | B37: 2132 | G37: =F37-E37 -> 0 | H37: =(F37/E37)*100 -> #DIV/0!
A38: єдиний внесок на загальнообов'язкове державне соціальне страхування | B38: 2133 | G38: =F38-E38 -> 0 | H38: =(F38/E38)*100 -> #DIV/0!
A39: інші податки, збори та платежі (розшифрувати) | B39: 2134 | H39: =(F39/E39)*100 -> #DIV/0!
A40: Погашення податкового боргу, усього, у тому числі: | B40: 2140 | C40: =SUM(C41:C42) -> 0 | D40: =SUM(D41:D42) -> 0 | E40: =SUM(E41:E42) -> 0 | F40: =SUM(F41:F42) -> 0 | H40: =(F40/E40)*100 -> #DIV/0!
A41: погашення реструктуризованих та відстрочених сум, що підлягають сплаті в поточному році до бюджетів та державних цільових фондів | B41: 2141 | H41: =(F41/E41)*100 -> #DIV/0!
...

Sheet ІІІ. Рух грош. коштів(рознести 
A1: ІІІ. Рух грошових коштів (за прямим методом)
A3: Найменування показника | B3: Код рядка | C3: Факт наростаючим підсумком з початку року | E3: Звітний період (рік)
C4: минулий рік | D4: поточний рік | E4: план | F4: факт | G4: відхилення, +/– | H4: виконання, %
A5: 1 | B5: 2 | C5: 3 | D5: 4 | E5: 5 | F5: 6 | G5: 7 | H5: 8
A6: І. Рух коштів у результаті операційної діяльності
A7: Надходження грошових коштів від операційної діяльності | B7: 3000 | C7: 18670 | D7: 16199 | E7: 12967 | F7: 16199 | G7: =F7-E7 -> 3232 | H7: =(F7/E7)*100 -> 124.92481
A8: Виручка від реалізації продукції (товарів, робіт, послуг) | B8: 3010 | C8: 4387 | D8: 4685 | F8: 4685 | G8: =F8-E8 -> 4685 | H8: =(F8/E8)*100 -> #DIV/0!
A9: Повернення податків і зборів, у тому числі: | B9: 3020 | G9: =F9-E9 -> 0 | H9: =(F9/E9)*100 -> #DIV/0!
A10: податку на додану вартість | B10: 3021 | G10: =F10-E10 -> 0 | H10: =(F10/E10)*100 -> #DIV/0!
A11: Цільове фінансування (розшифрувати) Програма благоустрою та розвитку комунальної інфраструктури м. Ужгород на 2018-2022 роки | B11: 3030 | C11: 14215 | D11: 11482 | E11: 12967 | F11: 11482 | G11: =F11-E11 -> -1485 | H11: =(F11/E11)*100 -> 88.547852
A12: Надходження авансів від покупців і замовників | B12: 3040 | G12: =F12-E12 -> 0 | H12: =(F12/E12)*100 -> #DIV/0!
A13: Отримання коштів за короткостроковими зобов'язаннями, у тому числі: | B13: 3050 | C13: =SUM(C14:C16) -> 0 | D13: =SUM(D14:D16) -> 0 | E13: =SUM(E14:E16) -> 0 | F13: =SUM(F14:F16) -> 0 | G13: =F13-E13 -> 0 | H13: =(F13/E13)*100 -> #DIV/0!
A14: кредити | B14: 3051 | G14: =F14-E14 -> 0 | H14: =(F14/E14)*100 -> #DIV/0!
A15: позики | B15: 3052 | G15: =F15-E15 -> 0 | H15: =(F15/E15)*100 -> #DIV/0!
A16: облігації | B16: 3053 | G16: =F16-E16 -> 0 | H16: =(F16/E16)*100 -> #DIV/0!
A17: Інші надходження (розшифрувати) відсотки по депозиту | B17: 3060 | C17: 68 | D17: 31 | F17: 31 | G17: =F17-E17 -> 31 | H17: =(F17/E17)*100 -> #DIV/0!
A18: Видатки грошових коштів від операційної діяльності | B18: 3100 | C18: -12198 | D18: -14980 | E18: -11050 | F18: -14980 | G18: =F18-E18 -> -3930 | H18: =(F18/E18)*100 -> 135.56561
A19: Розрахунки за продукцію (товари, роботи та послуги) | B19: 3110 | C19: -5266 | D19: -5431 | E19: -6150 | F19: -5431 | G19: =F19-E19 -> 719 | H19: =(F19/E19)*100 -> 88.308943
A20: Розрахунки з оплати праці | B20: 3120 | C20: -6932 | D20: -9549 | E20: -4900 | F20: 9549 | G20: =F20-E20 -> 14449 | H20: =(F20/E20)*100 -> -194.87755
A21: Повернення коштів за короткостроковими зобов'язаннями, у тому числі: | B21: 3130 | C21: =SUM(C22:C24) -> 0 | D21: =SUM(D22:D24) -> 0 | E21: =SUM(E22:E24) -> 0 | F21: =SUM(F22:F24) -> 0 | G21: =F21-E21 -> 0 | H21: =(F21/E21)*100 -> #DIV/0!
A22: кредити | B22: 3131 | C22: ( ) | D22: ( ) | E22: ( ) | F22: ( ) | G22: =F22-E22 -> #VALUE! | H22: =(F22/E22)*100 -> #VALUE!
A23: позики | B23: 3132 | C23: ( ) | D23: ( ) | E23: ( ) | F23: ( ) | G23: =F23-E23 -> #VALUE! | H23: =(F23/E23)*100 -> #VALUE!
A24: облігації | B24: 3133 | C24: ( ) | D24: ( ) | E24: ( ) | F24: ( ) | G24: =F24-E24 -> #VALUE! | H24: =(F24/E24)*100 -> #VALUE!
A25: Зобов’язання з податків, зборів та інших обов’язкових платежів, у тому числі: | B25: 3140 | C25: =SUM(C26:C31,C34) -> 0 | D25: =SUM(D26:D31,D34) -> 0 | E25: =SUM(E26:E31,E34) -> 0 | F25: =SUM(F26:F31,F34) -> 0 | G25: =F25-E25 -> 0 | H25: =(F25/E25)*100 -> #DIV/0!
A26: податок на прибуток підприємств | B26: 3141 | C26: ( ) | D26: ( ) | E26: ( ) | F26: ( ) | G26: =F26-E26 -> #VALUE! | H26: =(F26/E26)*100 -> #VALUE!
A27: податок на додану вартість | B27: 3142 | C27: ( ) | D27: ( ) | E27: ( ) | F27: ( ) | G27: =F27-E27 -> #VALUE! | H27: =(F27/E27)*100 -> #VALUE!
A28: акцизний податок | B28: 3143 | C28: ( ) | D28: ( ) | E28: ( ) | F28: ( ) | G28: =F28-E28 -> #VALUE! | H28: =(F28/E28)*100 -> #VALUE!
A29: рентна плата | B29: 3144 | C29: ( ) | D29: ( ) | E29: ( ) | F29: ( ) | G29: =F29-E29 -> #VALUE! | H29: =(F29/E29)*100 -> #VALUE!
A30: податок на доходи фізичних осіб | B30: 3145 | C30: ( ) | D30: ( ) | E30: ( ) | F30: ( ) | G30: =F30-E30 -> #VALUE! | H30: =(F30/E30)*100 -> #VALUE!
A31: інші обов’язкові платежі, у тому числі: | B31: 3146 | C31: =SUM(C32,C33) -> 0 | D31: =SUM(D32,D33) -> 0 | E31: =SUM(E32,E33) -> 0 | F31: =SUM(F32,F33) -> 0 | G31: =F31-E31 -> 0 | H31: =(F31/E31)*100 -> #DIV/0!
A32: відрахування частини чистого прибутку державними підприємствами | B32: 3146/1 | C32: ( ) | D32: ( ) | E32: ( ) | F32: ( ) | G32: =F32-E32 -> #VALUE! | H32: =(F32/E32)*100 -> #VALUE!
A33: відрахування частини чистого прибутку до фонду на виплату дивідендів на державну частку господарськими товариствами | B33: 3146/2 | C33: ( ) | D33: ( ) | E33: ( ) | F33: ( ) | G33: =F33-E33 -> #VALUE! | H33: =(F33/E33)*100 -> #VALUE!
A34: інші платежі (розшифрувати) | B34: 3150 | C34: ( ) | D34: ( ) | E34: ( ) | F34: ( ) | G34: =F34-E34 -> #VALUE! | H34: =(F34/E34)*100 -> #VALUE!
A35: Повернення коштів до бюджету | B35: 3160 | C35: ( ) | D35: ( ) | E35: ( ) | F35: ( ) | G35: =F35-E35 -> #VALUE! | H35: =(F35/E35)*100 -> #VALUE!
A36: Інші витрати (розшифрувати) | B36: 3170 | C36: ( ) | D36: ( ) | E36: ( ) | F36: ( ) | G36: =F36-E36 -> #VALUE! | H36: =(F36/E36)*100 -> #VALUE!
A37: Чистий рух коштів від операційної діяльності | B37: 3195 | C37: -6472 | D37: -1218 | E37: -35.2 | F37: -1218 | G37: =F37-E37 -> -1182.8 | H37: =(F37/E37)*100 -> 3460.2273
A38: II. Рух коштів у результаті інвестиційної діяльності | G38: =F38-E38 -> 0 | H38: =(F38/E38)*100 -> #DIV/0!
A39: Надходження грошових коштів від інвестиційної діяльності | B39: 3200 | C39: =SUM(C40:C43) -> 0 | D39: =SUM(D40:D43) -> 0 | E39: =SUM(E40:E43) -> 0 | F39: =SUM(F40:F43) -> 0 | G39: =F39-E39 -> 0 | H39: =(F39/E39)*100 -> #DIV/0!
A40: Виручка від реалізації фінансових інвестицій | B40: 3210 | G40: =F40-E40 -> 0 | H40: =(F40/E40)*100 -> #DIV/0!
A41: Виручка від реалізації необоротних активів | B41: 3220 | G41: =F41-E41 -> 0 | H41: =(F41/E41)*100 -> #DIV/0!
...

Sheet IV. Кап. інвестиції
A3: Найменування показника | B3: Код рядка | C3: Факт наростаючим підсумком з початку року | E3: Звітний період (рік)
C4: минулий рік | D4: поточний рік | E4: план | F4: факт | G4: відхилення, +/– | H4: виконання, %
A5: 1 | B5: 2 | C5: 3 | D5: 4 | E5: 5 | F5: 6 | G5: 7 | H5: 8
A6: Капітальні інвестиції, усього, у тому числі: | B6: 4000 | D6: 1456 | E6: 4990 | F6: 1456 | G6: =F6-E6 -> -3534 | H6: =(F6/E6)*100 -> 29.178357
A7: капітальне будівництво | B7: 4010 | G7: =F7-E7 -> 0 | H7: =(F7/E7)*100 -> #DIV/0!
A8: придбання (виготовлення) основних засобів | B8: 4020 | D8: 130 | E8: 4990 | F8: 130 | G8: =F8-E8 -> -4860 | H8: =(F8/E8)*100 -> 2.6052104
A9: придбання (виготовлення) інших необоротних матеріальних активів | B9: 4030 | G9: =F9-E9 -> 0 | H9: =(F9/E9)*100 -> #DIV/0!
A10: придбання (створення) нематеріальних активів | B10: 4040 | G10: =F10-E10 -> 0 | H10: =(F10/E10)*100 -> #DIV/0!
A11: модернізація, модифікація (добудова, дообладнання, реконструкція) основних засобів | B11: 4050 | G11: =F11-E11 -> 0 | H11: =(F11/E11)*100 -> #DIV/0!
A12: капітальний ремонт | B12: 4060 | D12: 1326 | F12: 1326 | G12: =F12-E12 -> 1326 | H12: =(F12/E12)*100 -> #DIV/0!
A16: Керівник ____________________________________________________ | C16: __________________________ | F16: _____________________________________________________
A17: (посада) | C17: (підпис) | F17: (ініціали, прізвище)

Sheet  V. Коефіцієнти
A1: V. Коефіцієнтний аналіз
A3: Найменування показника | B3: Код рядка | C3: Оптимальне значення | D3: Факт наростаючим підсумком з початку року | F3: Звітний період (рік) | H3: Примітки
D4: минулий рік | E4: поточний рік | F4: минулий рік | G4: поточний рік
A5: 1 | B5: 2 | C5: 3 | D5: 4 | E5: 5 | F5: 6 | G5: 7 | H5: 8
A6: Коефіцієнти рентабельності та прибутковості
A7: Валова рентабельність (валовий прибуток, рядок 1020 / чистий дохід від реалізації продукції (товарів, робіт, послуг), рядок 1000) х 100, % | B7: 5000 | C7: Збільшення | D7: =('Осн. фін. пок.'!C30/'Осн. фін. пок.'!C28)*100 -> 4.6045133 | E7: =('Осн. фін. пок.'!D30/'Осн. фін. пок.'!D28)*100 -> 4.4183565
A8: Рентабельність EBITDA (EBITDA, рядок 1310 / чистий дохід від реалізації продукції (товарів, робіт, послуг), рядок 1000) х 100, % | B8: 5010 | C8: Збільшення | D8: =('Осн. фін. пок.'!C45/'Осн. фін. пок.'!C28)*100 -> #VALUE! | E8: =('Осн. фін. пок.'!D45/'Осн. фін. пок.'!D28)*100 -> #VALUE!
A9: Рентабельність активів (чистий фінансовий результат, рядок 1200 / вартість активів, рядок 6020) х 100, % | B9: 5020 | C9: Збільшення | D9: =('Осн. фін. пок.'!C60/'Осн. фін. пок.'!C136)*100 -> 0.80457992 | E9: =('Осн. фін. пок.'!D60/'Осн. фін. пок.'!D136)*100 -> 0.6726286 | H9: Характеризує ефективність використання активів підприємства
A10: Рентабельність власного капіталу (чистий фінансовий результат, рядок 1200 / власний капітал, рядок 6080) х 100, % | B10: 5030 | C10: Збільшення | D10: =('Осн. фін. пок.'!C60/'Осн. фін. пок.'!C142)*100 -> 0.80620155 | E10: =('Осн. фін. пок.'!D60/'Осн. фін. пок.'!D142)*100 -> 0.67360686
A11: Рентабельність діяльності (чистий фінансовий результат, рядок 1200 / чистий дохід від реалізації продукції (товарів, робіт, послуг), рядок 1000) х 100, % | B11: 5040 | C11: Збільшення | D11: =('Осн. фін. пок.'!C60/'Осн. фін. пок.'!C28)*100 -> 2.3706405 | E11: =('Осн. фін. пок.'!D60/'Осн. фін. пок.'!D28)*100 -> 1.8783351 | H11: Характеризує ефективність господарської діяльності підприємства
A12: Коефіцієнти фінансової стійкості та ліквідності
A13: Коефіцієнт відношення боргу до EBITDA (довгострокові зобов'язання, рядок 6030 + поточні зобов'язання, рядок 6040) / EBITDA, рядок 1310 | B13: 5100 | D13: =('Осн. фін. пок.'!C137+'Осн. фін. пок.'!C138)/'Осн. фін. пок.'!C45 -> #VALUE! | E13: =('Осн. фін. пок.'!D137+'Осн. фін. пок.'!D138)/'Осн. фін. пок.'!D45 -> #VALUE!
A14: Коефіцієнт фінансової стійкості (власний капітал, рядок 6080 / (довгострокові зобов'язання, рядок 6030 + поточні зобов'язання, рядок 6040)) | B14: 5110 | C14: > 1 | D14: ='Осн. фін. пок.'!C142/('Осн. фін. пок.'!C137+'Осн. фін. пок.'!C138) -> 516 | E14: ='Осн. фін. пок.'!D142/('Осн. фін. пок.'!D137+'Осн. фін. пок.'!D138) -> 687.57895 | H14: Характеризує співвідношення власних та позикових коштів і залежність підприємства від зовнішніх фінансових джерел
A15: Коефіцієнт поточної ліквідності (покриття) (оборотні активи, рядок 6010 / поточні зобов'язання, рядок 6040) | B15: 5120 | C15: > 1 | D15: ='Осн. фін. пок.'!C134/'Осн. фін. пок.'!C138 -> 155.68 | E15: ='Осн. фін. пок.'!D134/'Осн. фін. пок.'!D138 -> 245.84211 | H15: Показує достатність ресурсів підприємства, які може бути використано для погашення його поточних зобов'язань. Нормативним значенням для цього показника є > 1–1,5
A16: Аналіз капітальних інвестицій
A17: Коефіцієнт відношення капітальних інвестицій до амортизації (капітальні інвестиції, рядок 4000 / амортизація, рядок 1430) | B17: 5200 | D17: ='Осн. фін. пок.'!C111/'Осн. фін. пок.'!C72 -> 0 | E17: ='Осн. фін. пок.'!D111/'Осн. фін. пок.'!D72 -> 3.2572707
A18: Коефіцієнт відношення капітальних інвестицій до чистого доходу від реалізації продукції (товарів, робіт, послуг) (капітальні інвестиції, рядок 4000 / чистий дохід від реалізації продукції (товарів, робіт, послуг), рядок 1000) | B18: 5210 | D18: ='Осн. фін. пок.'!C111/'Осн. фін. пок.'!C28 -> 0 | E18: ='Осн. фін. пок.'!D111/'Осн. фін. пок.'!D28 -> 0.31077908
A19: Коефіцієнт зносу основних засобів (сума зносу, рядок 6003 / первісна вартість основних засобів, рядок 6002) | B19: 5220 | C19: Зменшення | D19: ='Осн. фін. пок.'!C133/'Осн. фін. пок.'!C132 -> -0.28891834 | E19: ='Осн. фін. пок.'!D133/'Осн. фін. пок.'!D132 -> -0.30864514 | H19: Характеризує інвестиційну політику підприємства
A20: Ковенанти/обмежувальні коефіцієнти
A21: Інші коефіцієнти/ковенанти, якщо такі передбачені умовами кредитних договорів, із зазначенням банку, валюти та суми зобов'язання на дату останньої звітності, строку погашення. У графі "Оптимальне значення" вказати граничне значення коефіцієнта | B21: 5300
A27: Керівник _____________________________________ | C27: __________________________ | F27: ______________________________________
A28: (посада) | C28: (підпис) | F28: (ініціали, прізвище)

Sheet 6.1. Інша інфо_1
A1: Інформація
A2: 9 місяців 2025 року
A3: __________________________________________________________________________________________________________________
A4: (найменування підприємства)
A5: 1. Дані про підприємство, персонал та витрати на оплату праці
A7: Загальна інформація про підприємство (резюме)
A9: Найменування показника | C9: Факт відповідного періоду минулого року | F9: План звітного періоду | I9: Факт звітного періоду | L9: Відхилення, +/– (Факт звітного періоду / План звітного періоду) | N9: Виконання, % (Факт звітного періоду / План звітного періоду)
A10: 1 | C10: 2 | F10: 3 | I10: 4 | L10: 5 | N10: 6
A11: Середня кількість працівників (штатних працівників, зовнішніх сумісників та працівників, що працюють за цивільно-правовими договорами), у тому числі: | C11: 35 | F11: 35 | I11: 36 | L11: =I11-F11 -> 1 | N11: =(I11/F11)*100 -> 102.85714
A12: директор | C12: 1 | F12: 1 | I12: 1 | L12: =I12-F12 -> 0 | N12: =(I12/F12)*100 -> 100
A13: адміністративно-управлінський персонал | C13: 3 | F13: 3 | I13: 4 | L13: =I13-F13 -> 1 | N13: =(I13/F13)*100 -> 133.33333
A14: працівники | C14: 31 | F14: 31 | I14: 31 | L14: =I14-F14 -> 0 | N14: =(I14/F14)*100 -> 100
A15: Фонд оплати праці, тис. грн, у тому числі: | C15: 3524 | F15: 5458 | I15: 9549 | L15: =I15-F15 -> 4091 | N15: =(I15/F15)*100 -> 174.9542
A16: директор | C16: 324 | F16: 328 | I16: 705 | L16: =I16-F16 -> 377 | N16: =(I16/F16)*100 -> 214.93902
A17: адміністративно-управлінський персонал | C17: 864 | F17: 750 | I17: 1668 | L17: =I17-F17 -> 918 | N17: =(I17/F17)*100 -> 222.4
A18: працівники | C18: 2336 | F18: 4380 | I18: 7176 | L18: =I18-F18 -> 2796 | N18: =(I18/F18)*100 -> 163.83562
A19: Витрати на оплату праці, тис. грн, у тому числі: | C19: 2537 | F19: 5458 | I19: 818 | L19: =I19-F19 -> -4640 | N19: =(I19/F19)*100 -> 14.987175
A20: директор | C20: 324 | F20: 328 | I20: 705 | L20: =I20-F20 -> 377 | N20: =(I20/F20)*100 -> 214.93902
A21: адміністративно-управлінський персонал | C21: 864 | F21: 750 | I21: 1608 | L21: =I21-F21 -> 858 | N21: =(I21/F21)*100 -> 214.4
A22: працівники | C22: 2336 | F22: 4380 | I22: 7176 | L22: =I22-F22 -> 2796 | N22: =(I22/F22)*100 -> 163.83562
... A26: працівники | C26: 6279.6 | F26: 16773 | I26: 19290 | L26: =I26-F26 -> 2517 | N26: =(I26/F26)*100 -> 115.00626
A28: У разі збільшення витрат на оплату праці у звітному періоді порівняно із запланованими та фактичними витратами відповідного періоду минулого року обов'язково надаються обґрунтування.
A30: 2. Перелік підприємств, які включені до консолідованого (зведеного) фінансового плану
A32: Код за ЄДРПОУ | B32: Найменування підприємства | F32: Вид діяльності
A33: 1 | B33: 2 | F33: 3
A40: 3. Інформація про бізнес підприємства (код рядка 1000 фінансового плану)
A42: Найменування видів діяльності за КВЕД | D42: План | G42: Факт | J42: Відхилення, +/– | M42: Виконання, %
D43: чистий дохід від реалізації продукції (товарів, робіт, послуг), тис. грн | E43: кількість продукції/ наданих послуг, одиниця виміру | F43: ціна одиниці (вартість продукції/ наданих послуг), грн | G43: чистий дохід від реалізації продукції (товарів, робіт, послуг), тис. грн | H43: кількість продукції/ наданих послуг, одиниця виміру | I43: ціна одиниці (вартість продукції/ наданих послуг), грн | J43: чистий дохід від реалізації продукції (товарів, робіт, послуг), тис. грн | K43: кількість продукції/ наданих послуг, одиниця виміру | L43: ціна одиниці (вартість продукції/ наданих послуг), грн | M43: чистий дохід від реалізації продукції (товарів, робіт, послуг) | N43: кількість продукції/ наданих послуг | O43: зміна ціни одиниці (вартості продукції/ наданих послуг)
A44: 1 | D44: 2 | E44: 3 | F44: 4 | G44: 5 | H44: 6 | I44: 7 | J44: 8 | K44: 9 | L44: 10 | M44: 11 | N44: 12 | O44: 13
J45: =G45-D45 -> 0 | K45: =H45-E45 -> 0 | L45: =I45-F45 -> 0 | M45: =(G45/D45)*100 -> #DIV/0! | N45: =(H45/E45)*100 -> #DIV/0! | O45: =(I45/F45)*100 -> #DIV/0!
J46: =G46-D46 -> 0 | K46: =H46-E46 -> 0 | L46: =I46-F46 -> 0 | M46: =(G46/D46)*100 -> #DIV/0! | N46: =(H46/E46)*100 -> #DIV/0! | O46: =(I46/F46)*100 -> #DIV/0!
J47: =G47-D47 -> 0 | K47: =H47-E47 -> 0 | L47: =I47-F47 -> 0 | M47: =(G47/D47)*100 -> #DIV/0! | N47: =(H47/E47)*100 -> #DIV/0! | O47: =(I47/F47)*100 -> #DIV/0!
J48: =G48-D48 -> 0 | K48: =H48-E48 -> 0 | L48: =I48-F48 -> 0 | M48: =(G48/D48)*100 -> #DIV/0! | N48: =(H48/E48)*100 -> #DIV/0! | O48: =(I48/F48)*100 -> #DIV/0!
A49: Усього | D49: =SUM(D45:D48) -> 0 | G49: =SUM(G45:G48) -> 0
A51: 4. Діючі фінансові зобов'язання підприємства
A53: Найменування банку | B53: Вид кредитного продукту та цільове призначення | D53: Сума, валюта за договорами | F53: Процентна ставка | H53: Дата видачі / погашення (графік) | K53: Заборгованість на останню дату | M53: Забезпечення
A54: 1 | B54: 2 | D54: 3 | F54: 4 | H54: 5 | K54: 6 | M54: 7
A59: Усього | B59: х | D59: х | F59: х | K59: =SUM(K55:L58) -> 0
A61: 5. Інформація щодо отримання та повернення залучених коштів
A63: Зобов'язання | D63: Заборгованість за кредитами на початок звітного періоду | F63: Отримано залучених коштів за звітний період | J63: Повернено залучених коштів за звітний період | N63: Заборгованість на кінець звітного періоду
...

Sheet 6.2. Інша інфо_2
C1: 6. Витрати, пов'язані з використанням власних службових автомобілів (у складі адміністративних витрат, рядок 1031)
A3: № з/п | B3: Марка | D3: Рік придбання | G3: Мета використання | R3: Витрати, усього | AA3: Відхилення, +/– (факт звітного періоду / план звітного періоду) | AD3: Виконання, % (факт звітного періоду / план звітного періоду)
R4: факт відповідного періоду минулого року | U4: план звітного періоду | X4: факт звітного періоду
A5: 1 | B5: 2 | D5: 3 | G5: 4 | R5: 5 | U5: 6 | X5: 7 | AA5: 8 | AD5: 9
AA6: =X6-U6 -> 0 | AD6: =(X6/U6)*100 -> #DIV/0!
AA7: =X7-U7 -> 0 | AD7: =(X7/U7)*100 -> #DIV/0!
AA8: =X8-U8 -> 0 | AD8: =(X8/U8)*100 -> #DIV/0!
AA9: =X9-U9 -> 0 | AD9: =(X9/U9)*100 -> #DIV/0!
A10: Усього | R10: =SUM(R6:R9) -> 0 | U10: =SUM(U6:U9) -> 0 | X10: =SUM(X6:X9) -> 0 | AA10: =X10-U10 -> 0 | AD10: =(X10/U10)*100 -> #DIV/0!
C13: 7. Витрати на оренду службових автомобілів (у складі адміністративних витрат, рядок 1032)
A15: № з/п | B15: Договір | D15: Марка | H15: Мета використання | P15: Дата початку оренди | R15: Витрати, усього | AA15: Відхилення, +/– (факт звітного періоду / план звітного періоду) | AD15: Виконання, % (факт звітного періоду / план звітного періоду)
R16: факт відповідного періоду минулого року | U16: план звітного періоду | X16: факт звітного періоду
A18: 1 | B18: 2 | D18: 3 | H18: 4 | P18: 5 | R18: 6 | U18: 7 | X18: 8 | AA18: 9 | AD18: 10
AA19: =X19-U19 -> 0 | AD19: =(X19/U19)*100 -> #DIV/0!
AA20: =X20-U20 -> 0 | AD20: =(X20/U20)*100 -> #DIV/0!
AA21: =X21-U21 -> 0 | AD21: =(X21/U21)*100 -> #DIV/0!
AA22: =X22-U22 -> 0 | AD22: =(X22/U22)*100 -> #DIV/0!
A23: Усього | R23: =SUM(R19:R22) -> 0 | U23: =SUM(U19:U22) -> 0 | X23: =SUM(X19:X22) -> 0 | AA23: =X23-U23 -> 0 | AD23: =(X23/U23)*100 -> #DIV/0!
C26: 8. Джерела капітальних інвестицій
AD27: тис. грн (без ПДВ)
A28: № з/п | B28: Найменування об’єкта | M28: Залучення кредитних коштів | Q28: Бюджетне фінансування | U28: Власні кошти (розшифрувати) | Y28: Інші джерела (розшифрувати) | AC28: Усього
M29: план | N29: факт | O29: відхилення, +/– | P29: виконання, % | Q29: план | R29: факт | S29: відхилення, +/– | T29: виконання, % | U29: план | V29: факт | W29: відхилення, +/– | X29: виконання, % | Y29: план | Z29: факт | AA29: відхилення, +/– | AB29: виконання, % | AC29: план | AD29: факт | AE29: відхилення, +/– | AF29: виконання, %
A31: 1 | B31: 2 | M31: 3 | N31: 4 | O31: 5 | P31: 6 | Q31: 7 | R31: 8 | S31: 9 | T31: 10 | U31: 11 | V31: 12 | W31: 13 | X31: 14 | Y31: 15 | Z31: 16 | AA31: 17 | AB31: 18 | AC31: 19 | AD31: 20 | AE31: 21 | AF31: 22
B32: Капітальний ремонт будинку громадських панахид по вул. Тихій в м. Ужгород | O32: =N32-M32 -> 0 | P32: =N32/M32*100 -> #DIV/0! | R32: 1326 | S32: =R32-Q32 -> 1326 | T32: =R32/Q32*100 -> #DIV/0! | W32: =V32-U32 -> 0 | X32: =V32/U32*100 -> #DIV/0! | AA32: =Z32-Y32 -> 0 | AB32: =Z32/Y32*100 -> #DIV/0! | AC32: =SUM(M32,Q32,U32,Y32) -> 0 | AD32: =SUM(N32,R32,V32,Z32) -> 1326 | AE32: =AD32-AC32 -> 1326 | AF32: =AD32/AC32*100 -> #DIV/0!
B33: Придбання кондиціонерів | O33: =N33-M33 -> 0 | P33: =N33/M33*100 -> #DIV/0! | R33: 100 | S33: 100 | T33: =R33/Q33*100 -> #DIV/0! | W33: =V33-U33 -> 0 | X33: =V33/U33*100 -> #DIV/0! | AA33: =Z33-Y33 -> 0 | AB33: =Z33/Y33*100 -> #DIV/0! | AC33: =SUM(M33,Q33,U33,Y33) -> 0 | AD33: =SUM(N33,R33,V33,Z33) -> 100 | AE33: =AD33-AC33 -> 100 | AF33: =AD33/AC33*100 -> #DIV/0!
B34: Придбання ноутбуку | O34: =N34-M34 -> 0 | P34: =N34/M34*100 -> #DIV/0! | S34: =R34-Q34 -> 0 | T34: =R34/Q34*100 -> #DIV/0! | V34: 30 | W34: =V34-U34 -> 30 | X34: =V34/U34*100 -> #DIV/0! | AA34: =Z34-Y34 -> 0 | AB34: =Z34/Y34*100 -> #DIV/0! | AC34: =SUM(M34,Q34,U34,Y34) -> 0 | AD34: =SUM(N34,R34,V34,Z34) -> 30 | AE34: =AD34-AC34 -> 30 | AF34: =AD34/AC34*100 -> #DIV/0!
O35: =N35-M35 -> 0 | P35: =N35/M35*100 -> #DIV/0! | S35: =R35-Q35 -> 0 | T35: =R35/Q35*100 -> #DIV/0! | W35: =V35-U35 -> 0 | X35: =V35/U35*100 -> #DIV/0! | AA35: =Z35-Y35 -> 0 | AB35: =Z35/Y35*100 -> #DIV/0! | AC35: =SUM(M35,Q35,U35,Y35) -> 0 | AD35: =SUM(N35,R35,V35,Z35) -> 0 | AE35: =AD35-AC35 -> 0 | AF35: =AD35/AC35*100 -> #DIV/0!
A36: Усього | M36: =SUM(M32:M35) -> 0 | N36: =SUM(N32:N35) -> 0 | O36: =SUM(O32:O35) -> 0 | P36: =N36/M36*100 -> #DIV/0! | Q36: =SUM(Q32:Q35) -> 0 | R36: =SUM(R32:R35) -> 1426 | S36: =SUM(S32:S35) -> 1426 | T36: =R36/Q36*100 -> #DIV/0! | U36: =SUM(U32:U35) -> 0 | V36: =SUM(V32:V35) -> 30 | W36: =SUM(W32:W35) -> 30 | X36: =V36/U36*100 -> #DIV/0! | Y36: =SUM(Y32:Y35) -> 0 | Z36: =SUM(Z32:Z35) -> 0 | AA36: =SUM(AA32:AA35) -> 0 | AB36: =Z36/Y36*100 -> #DIV/0! | AC36: =SUM(AC32:AC35) -> 0 | AD36: =SUM(AD32:AD35) -> 1456 | AE36: =SUM(AE32:AE35) -> 1456 | AF36: =AD36/AC36*100 -> #DIV/0!
A37: Відсоток | M37: =M36/AC36*100 -> #DIV/0! | N37: =N36/AD36*100 -> 0 | Q37: =Q36/AC36*100 -> #DIV/0! | R37: =R36/AD36*100 -> 97.93956 | U37: =U36/AC36*100 -> #DIV/0! | V37: =V36/AD36*100 -> 2.0604396 | Y37: =Y36/AC36*100 -> #DIV/0! | Z37: =Z36/AD36*100 -> 0 | AC37: =SUM(M37,Q37,U37,Y37) -> #DIV/0! | AD37: =SUM(N37,R37,V37,Z37) -> 100
C40: 9. Капітальне будівництво (рядок 4010 таблиці 4)
AD41: тис. грн (без ПДВ)
A42: № з/п | B42: Найменування об’єкта | D42: Рік початку і закінчення будівництва | F42: Загальна кошторисна вартість | H42: Первісна балансова вартість введених потужностей на початок звітного періоду | J42: Незавершене будівництво на початок звітного періоду | L42: Звітний період (рік) | V42: Інформація щодо проектно-кошторисної документації (стан розроблення, затвердження, у разі затвердження зазначити орган, яким затверджено, та відповідний документ) | AA42: Документ, яким затверджений титул будови, із зазначенням органу, який його погодив
L43: освоєння капітальних вкладень | N43: фінансування капітальних інвестицій (оплата грошовими коштами), усього | P43: у тому числі
P44: власні кошти | R44: кредитні кошти | T44: інші джерела (зазначити джерело)
A45: 1 | B45: 2 | D45: 3 | F45: 4 | H45: 5 | J45: 6 | L45: 7 | N45: 8 | P45: 9 | R45: 10 | T45: 11 | V45: 12 | AA45: 13
N46: =SUM(P46,R46,T46) -> 0
N47: =SUM(P47,R47,T47) -> 0
N48: =SUM(P48,R48,T48) -> 0
N49: =SUM(P49,R49,T49) -> 0
N50: =SUM(P50,R50,T50) -> 0
...
